BEGIN:VCALENDAR
VERSION:2.0
PRODID:-//Little Tower - ECPv6.15.12.2//NONSGML v1.0//EN
CALSCALE:GREGORIAN
METHOD:PUBLISH
X-WR-CALNAME:Little Tower
X-ORIGINAL-URL:https://littletower.be
X-WR-CALDESC:Évènements pour Little Tower
REFRESH-INTERVAL;VALUE=DURATION:PT1H
X-Robots-Tag:noindex
X-PUBLISHED-TTL:PT1H
BEGIN:VTIMEZONE
TZID:UTC
BEGIN:STANDARD
TZOFFSETFROM:+0000
TZOFFSETTO:+0000
TZNAME:UTC
DTSTART:20250101T000000
END:STANDARD
END:VTIMEZONE
BEGIN:VEVENT
DTSTART;TZID=UTC:20260311T190000
DTEND;TZID=UTC:20260311T220000
DTSTAMP:20260423T173435
CREATED:20260316T090711Z
LAST-MODIFIED:20260316T090711Z
UID:3188-1773255600-1773266400@littletower.be
SUMMARY:Peu importe
DESCRIPTION:Le soir tombe. Les enfants dorment. Après une semaine de séparation\, un homme et une femme se retrouvent enfin. L’un revient de voyage et offre à l’autre un cadeau. Ou peut‑être est‑ce l’inverse. Peu importe. Le présent reste fermé\, suspendu au cœur d’une nuit qui promet d’être longue. Dans Peu importe\, Marius von Mayenburg observe avec ironie les relations contemporaines et la place du travail dans nos vies. Entre humour féroce et tension dramatique\, la pièce questionne notre époque et les équilibres fragiles du couple. Portée par Stéphanie Blanchoud et Itsik Elbaz\, la mise en scène de Michael Delaunoy propose un duel d’acteurs captivant.
URL:https://littletower.be/evenement-culturel-wallonie-bruxelles/peu-importe/
LOCATION:Théâtre Le Public\, Rue Braemt 64-70\, Bruxelles\, Bruxelles-Capitale\, 1210\, Belgium
CATEGORIES:à la une,BRUXELLES,Marius von Mayenburg,Peu importe,Théâtre,Théâtre Le Public
ATTACH;FMTTYPE=image/png:https://littletower.be/wp-content/uploads/2026/03/image-35-e1773651510517-07nOPb.png
END:VEVENT
BEGIN:VEVENT
DTSTART;TZID=UTC:20260312T203000
DTEND;TZID=UTC:20260312T233000
DTSTAMP:20260423T173435
CREATED:20260316T090712Z
LAST-MODIFIED:20260316T090712Z
UID:3190-1773347400-1773358200@littletower.be
SUMMARY:Peu importe
DESCRIPTION:Le soir tombe. Les enfants dorment. Après une semaine de séparation\, un homme et une femme se retrouvent enfin. L’un revient de voyage et offre à l’autre un cadeau. Ou peut‑être est‑ce l’inverse. Peu importe. Le présent reste fermé\, suspendu au cœur d’une nuit qui promet d’être longue. Dans Peu importe\, Marius von Mayenburg observe avec ironie les relations contemporaines et la place du travail dans nos vies. Entre humour féroce et tension dramatique\, la pièce questionne notre époque et les équilibres fragiles du couple. Portée par Stéphanie Blanchoud et Itsik Elbaz\, la mise en scène de Michael Delaunoy propose un duel d’acteurs captivant.
URL:https://littletower.be/evenement-culturel-wallonie-bruxelles/peu-importe-2/
LOCATION:Théâtre Le Public\, Rue Braemt 64-70\, Bruxelles\, Bruxelles-Capitale\, 1210\, Belgium
CATEGORIES:BRUXELLES,Marius von Mayenburg,Peu importe,Théâtre,Théâtre Le Public
ATTACH;FMTTYPE=image/png:https://littletower.be/wp-content/uploads/2026/03/image-35-e1773651510517-07nOPb.png
END:VEVENT
BEGIN:VEVENT
DTSTART;TZID=UTC:20260313T203000
DTEND;TZID=UTC:20260313T233000
DTSTAMP:20260423T173435
CREATED:20260316T090713Z
LAST-MODIFIED:20260316T090713Z
UID:3191-1773433800-1773444600@littletower.be
SUMMARY:Peu importe
DESCRIPTION:Le soir tombe. Les enfants dorment. Après une semaine de séparation\, un homme et une femme se retrouvent enfin. L’un revient de voyage et offre à l’autre un cadeau. Ou peut‑être est‑ce l’inverse. Peu importe. Le présent reste fermé\, suspendu au cœur d’une nuit qui promet d’être longue. Dans Peu importe\, Marius von Mayenburg observe avec ironie les relations contemporaines et la place du travail dans nos vies. Entre humour féroce et tension dramatique\, la pièce questionne notre époque et les équilibres fragiles du couple. Portée par Stéphanie Blanchoud et Itsik Elbaz\, la mise en scène de Michael Delaunoy propose un duel d’acteurs captivant.
URL:https://littletower.be/evenement-culturel-wallonie-bruxelles/peu-importe-3/
LOCATION:Théâtre Le Public\, Rue Braemt 64-70\, Bruxelles\, Bruxelles-Capitale\, 1210\, Belgium
CATEGORIES:BRUXELLES,Marius von Mayenburg,Peu importe,Théâtre,Théâtre Le Public
ATTACH;FMTTYPE=image/png:https://littletower.be/wp-content/uploads/2026/03/image-35-e1773651510517-07nOPb.png
END:VEVENT
BEGIN:VEVENT
DTSTART;TZID=UTC:20260314T203000
DTEND;TZID=UTC:20260314T233000
DTSTAMP:20260423T173435
CREATED:20260316T090713Z
LAST-MODIFIED:20260316T090713Z
UID:3192-1773520200-1773531000@littletower.be
SUMMARY:Peu importe
DESCRIPTION:Le soir tombe. Les enfants dorment. Après une semaine de séparation\, un homme et une femme se retrouvent enfin. L’un revient de voyage et offre à l’autre un cadeau. Ou peut‑être est‑ce l’inverse. Peu importe. Le présent reste fermé\, suspendu au cœur d’une nuit qui promet d’être longue. Dans Peu importe\, Marius von Mayenburg observe avec ironie les relations contemporaines et la place du travail dans nos vies. Entre humour féroce et tension dramatique\, la pièce questionne notre époque et les équilibres fragiles du couple. Portée par Stéphanie Blanchoud et Itsik Elbaz\, la mise en scène de Michael Delaunoy propose un duel d’acteurs captivant.
URL:https://littletower.be/evenement-culturel-wallonie-bruxelles/peu-importe-4/
LOCATION:Théâtre Le Public\, Rue Braemt 64-70\, Bruxelles\, Bruxelles-Capitale\, 1210\, Belgium
CATEGORIES:BRUXELLES,Marius von Mayenburg,Peu importe,Théâtre,Théâtre Le Public
ATTACH;FMTTYPE=image/png:https://littletower.be/wp-content/uploads/2026/03/image-35-e1773651510517-07nOPb.png
END:VEVENT
BEGIN:VEVENT
DTSTART;TZID=UTC:20260317T203000
DTEND;TZID=UTC:20260317T233000
DTSTAMP:20260423T173435
CREATED:20260316T090713Z
LAST-MODIFIED:20260316T090713Z
UID:3193-1773779400-1773790200@littletower.be
SUMMARY:Peu importe
DESCRIPTION:Le soir tombe. Les enfants dorment. Après une semaine de séparation\, un homme et une femme se retrouvent enfin. L’un revient de voyage et offre à l’autre un cadeau. Ou peut‑être est‑ce l’inverse. Peu importe. Le présent reste fermé\, suspendu au cœur d’une nuit qui promet d’être longue. Dans Peu importe\, Marius von Mayenburg observe avec ironie les relations contemporaines et la place du travail dans nos vies. Entre humour féroce et tension dramatique\, la pièce questionne notre époque et les équilibres fragiles du couple. Portée par Stéphanie Blanchoud et Itsik Elbaz\, la mise en scène de Michael Delaunoy propose un duel d’acteurs captivant.
URL:https://littletower.be/evenement-culturel-wallonie-bruxelles/peu-importe-5/
LOCATION:Théâtre Le Public\, Rue Braemt 64-70\, Bruxelles\, Bruxelles-Capitale\, 1210\, Belgium
CATEGORIES:BRUXELLES,Marius von Mayenburg,Peu importe,Théâtre,Théâtre Le Public
ATTACH;FMTTYPE=image/png:https://littletower.be/wp-content/uploads/2026/03/image-35-e1773651510517-07nOPb.png
END:VEVENT
BEGIN:VEVENT
DTSTART;TZID=UTC:20260318T190000
DTEND;TZID=UTC:20260318T220000
DTSTAMP:20260423T173435
CREATED:20260316T090716Z
LAST-MODIFIED:20260316T090716Z
UID:3194-1773860400-1773871200@littletower.be
SUMMARY:Peu importe
DESCRIPTION:Le soir tombe. Les enfants dorment. Après une semaine de séparation\, un homme et une femme se retrouvent enfin. L’un revient de voyage et offre à l’autre un cadeau. Ou peut‑être est‑ce l’inverse. Peu importe. Le présent reste fermé\, suspendu au cœur d’une nuit qui promet d’être longue. Dans Peu importe\, Marius von Mayenburg observe avec ironie les relations contemporaines et la place du travail dans nos vies. Entre humour féroce et tension dramatique\, la pièce questionne notre époque et les équilibres fragiles du couple. Portée par Stéphanie Blanchoud et Itsik Elbaz\, la mise en scène de Michael Delaunoy propose un duel d’acteurs captivant.
URL:https://littletower.be/evenement-culturel-wallonie-bruxelles/peu-importe-6/
LOCATION:Théâtre Le Public\, Rue Braemt 64-70\, Bruxelles\, Bruxelles-Capitale\, 1210\, Belgium
CATEGORIES:BRUXELLES,Marius von Mayenburg,Peu importe,Théâtre,Théâtre Le Public
ATTACH;FMTTYPE=image/png:https://littletower.be/wp-content/uploads/2026/03/image-35-e1773651510517-07nOPb.png
END:VEVENT
BEGIN:VEVENT
DTSTART;TZID=UTC:20260319T203000
DTEND;TZID=UTC:20260319T233000
DTSTAMP:20260423T173435
CREATED:20260316T090716Z
LAST-MODIFIED:20260316T090716Z
UID:3195-1773952200-1773963000@littletower.be
SUMMARY:Peu importe
DESCRIPTION:Le soir tombe. Les enfants dorment. Après une semaine de séparation\, un homme et une femme se retrouvent enfin. L’un revient de voyage et offre à l’autre un cadeau. Ou peut‑être est‑ce l’inverse. Peu importe. Le présent reste fermé\, suspendu au cœur d’une nuit qui promet d’être longue. Dans Peu importe\, Marius von Mayenburg observe avec ironie les relations contemporaines et la place du travail dans nos vies. Entre humour féroce et tension dramatique\, la pièce questionne notre époque et les équilibres fragiles du couple. Portée par Stéphanie Blanchoud et Itsik Elbaz\, la mise en scène de Michael Delaunoy propose un duel d’acteurs captivant.
URL:https://littletower.be/evenement-culturel-wallonie-bruxelles/peu-importe-7/
LOCATION:Théâtre Le Public\, Rue Braemt 64-70\, Bruxelles\, Bruxelles-Capitale\, 1210\, Belgium
CATEGORIES:BRUXELLES,Marius von Mayenburg,Peu importe,Théâtre,Théâtre Le Public
ATTACH;FMTTYPE=image/png:https://littletower.be/wp-content/uploads/2026/03/image-35-e1773651510517-07nOPb.png
END:VEVENT
BEGIN:VEVENT
DTSTART;TZID=UTC:20260320T203000
DTEND;TZID=UTC:20260320T233000
DTSTAMP:20260423T173435
CREATED:20260316T090717Z
LAST-MODIFIED:20260316T090717Z
UID:3196-1774038600-1774049400@littletower.be
SUMMARY:Peu importe
DESCRIPTION:Le soir tombe. Les enfants dorment. Après une semaine de séparation\, un homme et une femme se retrouvent enfin. L’un revient de voyage et offre à l’autre un cadeau. Ou peut‑être est‑ce l’inverse. Peu importe. Le présent reste fermé\, suspendu au cœur d’une nuit qui promet d’être longue. Dans Peu importe\, Marius von Mayenburg observe avec ironie les relations contemporaines et la place du travail dans nos vies. Entre humour féroce et tension dramatique\, la pièce questionne notre époque et les équilibres fragiles du couple. Portée par Stéphanie Blanchoud et Itsik Elbaz\, la mise en scène de Michael Delaunoy propose un duel d’acteurs captivant.
URL:https://littletower.be/evenement-culturel-wallonie-bruxelles/peu-importe-8/
LOCATION:Théâtre Le Public\, Rue Braemt 64-70\, Bruxelles\, Bruxelles-Capitale\, 1210\, Belgium
CATEGORIES:BRUXELLES,Marius von Mayenburg,Peu importe,Théâtre,Théâtre Le Public
ATTACH;FMTTYPE=image/png:https://littletower.be/wp-content/uploads/2026/03/image-35-e1773651510517-07nOPb.png
END:VEVENT
BEGIN:VEVENT
DTSTART;TZID=UTC:20260321T203000
DTEND;TZID=UTC:20260321T233000
DTSTAMP:20260423T173435
CREATED:20260316T090717Z
LAST-MODIFIED:20260316T090717Z
UID:3197-1774125000-1774135800@littletower.be
SUMMARY:Peu importe
DESCRIPTION:Le soir tombe. Les enfants dorment. Après une semaine de séparation\, un homme et une femme se retrouvent enfin. L’un revient de voyage et offre à l’autre un cadeau. Ou peut‑être est‑ce l’inverse. Peu importe. Le présent reste fermé\, suspendu au cœur d’une nuit qui promet d’être longue. Dans Peu importe\, Marius von Mayenburg observe avec ironie les relations contemporaines et la place du travail dans nos vies. Entre humour féroce et tension dramatique\, la pièce questionne notre époque et les équilibres fragiles du couple. Portée par Stéphanie Blanchoud et Itsik Elbaz\, la mise en scène de Michael Delaunoy propose un duel d’acteurs captivant.
URL:https://littletower.be/evenement-culturel-wallonie-bruxelles/peu-importe-9/
LOCATION:Théâtre Le Public\, Rue Braemt 64-70\, Bruxelles\, Bruxelles-Capitale\, 1210\, Belgium
CATEGORIES:BRUXELLES,Marius von Mayenburg,Peu importe,Théâtre,Théâtre Le Public
ATTACH;FMTTYPE=image/png:https://littletower.be/wp-content/uploads/2026/03/image-35-e1773651510517-07nOPb.png
END:VEVENT
BEGIN:VEVENT
DTSTART;TZID=UTC:20260322T170000
DTEND;TZID=UTC:20260322T200000
DTSTAMP:20260423T173435
CREATED:20260316T090717Z
LAST-MODIFIED:20260316T090717Z
UID:3198-1774198800-1774209600@littletower.be
SUMMARY:Peu importe
DESCRIPTION:Le soir tombe. Les enfants dorment. Après une semaine de séparation\, un homme et une femme se retrouvent enfin. L’un revient de voyage et offre à l’autre un cadeau. Ou peut‑être est‑ce l’inverse. Peu importe. Le présent reste fermé\, suspendu au cœur d’une nuit qui promet d’être longue. Dans Peu importe\, Marius von Mayenburg observe avec ironie les relations contemporaines et la place du travail dans nos vies. Entre humour féroce et tension dramatique\, la pièce questionne notre époque et les équilibres fragiles du couple. Portée par Stéphanie Blanchoud et Itsik Elbaz\, la mise en scène de Michael Delaunoy propose un duel d’acteurs captivant.
URL:https://littletower.be/evenement-culturel-wallonie-bruxelles/peu-importe-10/
LOCATION:Théâtre Le Public\, Rue Braemt 64-70\, Bruxelles\, Bruxelles-Capitale\, 1210\, Belgium
CATEGORIES:BRUXELLES,Marius von Mayenburg,Peu importe,Théâtre,Théâtre Le Public
ATTACH;FMTTYPE=image/png:https://littletower.be/wp-content/uploads/2026/03/image-35-e1773651510517-07nOPb.png
END:VEVENT
BEGIN:VEVENT
DTSTART;TZID=UTC:20260324T203000
DTEND;TZID=UTC:20260324T233000
DTSTAMP:20260423T173435
CREATED:20260316T090731Z
LAST-MODIFIED:20260316T090731Z
UID:3199-1774384200-1774395000@littletower.be
SUMMARY:Peu importe
DESCRIPTION:Le soir tombe. Les enfants dorment. Après une semaine de séparation\, un homme et une femme se retrouvent enfin. L’un revient de voyage et offre à l’autre un cadeau. Ou peut‑être est‑ce l’inverse. Peu importe. Le présent reste fermé\, suspendu au cœur d’une nuit qui promet d’être longue. Dans Peu importe\, Marius von Mayenburg observe avec ironie les relations contemporaines et la place du travail dans nos vies. Entre humour féroce et tension dramatique\, la pièce questionne notre époque et les équilibres fragiles du couple. Portée par Stéphanie Blanchoud et Itsik Elbaz\, la mise en scène de Michael Delaunoy propose un duel d’acteurs captivant.
URL:https://littletower.be/evenement-culturel-wallonie-bruxelles/peu-importe-11/
LOCATION:Théâtre Le Public\, Rue Braemt 64-70\, Bruxelles\, Bruxelles-Capitale\, 1210\, Belgium
CATEGORIES:BRUXELLES,Marius von Mayenburg,Peu importe,Théâtre,Théâtre Le Public
ATTACH;FMTTYPE=image/png:https://littletower.be/wp-content/uploads/2026/03/image-35-e1773651510517-07nOPb.png
END:VEVENT
BEGIN:VEVENT
DTSTART;TZID=UTC:20260325T190000
DTEND;TZID=UTC:20260325T220000
DTSTAMP:20260423T173435
CREATED:20260316T090732Z
LAST-MODIFIED:20260316T090732Z
UID:3200-1774465200-1774476000@littletower.be
SUMMARY:Peu importe
DESCRIPTION:Le soir tombe. Les enfants dorment. Après une semaine de séparation\, un homme et une femme se retrouvent enfin. L’un revient de voyage et offre à l’autre un cadeau. Ou peut‑être est‑ce l’inverse. Peu importe. Le présent reste fermé\, suspendu au cœur d’une nuit qui promet d’être longue. Dans Peu importe\, Marius von Mayenburg observe avec ironie les relations contemporaines et la place du travail dans nos vies. Entre humour féroce et tension dramatique\, la pièce questionne notre époque et les équilibres fragiles du couple. Portée par Stéphanie Blanchoud et Itsik Elbaz\, la mise en scène de Michael Delaunoy propose un duel d’acteurs captivant.
URL:https://littletower.be/evenement-culturel-wallonie-bruxelles/peu-importe-12/
LOCATION:Théâtre Le Public\, Rue Braemt 64-70\, Bruxelles\, Bruxelles-Capitale\, 1210\, Belgium
CATEGORIES:BRUXELLES,Marius von Mayenburg,Peu importe,Théâtre,Théâtre Le Public
ATTACH;FMTTYPE=image/png:https://littletower.be/wp-content/uploads/2026/03/image-35-e1773651510517-07nOPb.png
END:VEVENT
BEGIN:VEVENT
DTSTART;TZID=UTC:20260326T203000
DTEND;TZID=UTC:20260326T233000
DTSTAMP:20260423T173435
CREATED:20260316T090732Z
LAST-MODIFIED:20260316T090732Z
UID:3201-1774557000-1774567800@littletower.be
SUMMARY:Peu importe
DESCRIPTION:Le soir tombe. Les enfants dorment. Après une semaine de séparation\, un homme et une femme se retrouvent enfin. L’un revient de voyage et offre à l’autre un cadeau. Ou peut‑être est‑ce l’inverse. Peu importe. Le présent reste fermé\, suspendu au cœur d’une nuit qui promet d’être longue. Dans Peu importe\, Marius von Mayenburg observe avec ironie les relations contemporaines et la place du travail dans nos vies. Entre humour féroce et tension dramatique\, la pièce questionne notre époque et les équilibres fragiles du couple. Portée par Stéphanie Blanchoud et Itsik Elbaz\, la mise en scène de Michael Delaunoy propose un duel d’acteurs captivant.
URL:https://littletower.be/evenement-culturel-wallonie-bruxelles/peu-importe-13/
LOCATION:Théâtre Le Public\, Rue Braemt 64-70\, Bruxelles\, Bruxelles-Capitale\, 1210\, Belgium
CATEGORIES:BRUXELLES,Marius von Mayenburg,Peu importe,Théâtre,Théâtre Le Public
ATTACH;FMTTYPE=image/png:https://littletower.be/wp-content/uploads/2026/03/image-35-e1773651510517-07nOPb.png
END:VEVENT
BEGIN:VEVENT
DTSTART;TZID=UTC:20260327T203000
DTEND;TZID=UTC:20260327T233000
DTSTAMP:20260423T173435
CREATED:20260316T090732Z
LAST-MODIFIED:20260316T090732Z
UID:3202-1774643400-1774654200@littletower.be
SUMMARY:Peu importe
DESCRIPTION:Le soir tombe. Les enfants dorment. Après une semaine de séparation\, un homme et une femme se retrouvent enfin. L’un revient de voyage et offre à l’autre un cadeau. Ou peut‑être est‑ce l’inverse. Peu importe. Le présent reste fermé\, suspendu au cœur d’une nuit qui promet d’être longue. Dans Peu importe\, Marius von Mayenburg observe avec ironie les relations contemporaines et la place du travail dans nos vies. Entre humour féroce et tension dramatique\, la pièce questionne notre époque et les équilibres fragiles du couple. Portée par Stéphanie Blanchoud et Itsik Elbaz\, la mise en scène de Michael Delaunoy propose un duel d’acteurs captivant.
URL:https://littletower.be/evenement-culturel-wallonie-bruxelles/peu-importe-14/
LOCATION:Théâtre Le Public\, Rue Braemt 64-70\, Bruxelles\, Bruxelles-Capitale\, 1210\, Belgium
CATEGORIES:BRUXELLES,Marius von Mayenburg,Peu importe,Théâtre,Théâtre Le Public
ATTACH;FMTTYPE=image/png:https://littletower.be/wp-content/uploads/2026/03/image-35-e1773651510517-07nOPb.png
END:VEVENT
BEGIN:VEVENT
DTSTART;TZID=UTC:20260328T203000
DTEND;TZID=UTC:20260328T233000
DTSTAMP:20260423T173435
CREATED:20260316T090733Z
LAST-MODIFIED:20260316T090733Z
UID:3203-1774729800-1774740600@littletower.be
SUMMARY:Peu importe
DESCRIPTION:Le soir tombe. Les enfants dorment. Après une semaine de séparation\, un homme et une femme se retrouvent enfin. L’un revient de voyage et offre à l’autre un cadeau. Ou peut‑être est‑ce l’inverse. Peu importe. Le présent reste fermé\, suspendu au cœur d’une nuit qui promet d’être longue. Dans Peu importe\, Marius von Mayenburg observe avec ironie les relations contemporaines et la place du travail dans nos vies. Entre humour féroce et tension dramatique\, la pièce questionne notre époque et les équilibres fragiles du couple. Portée par Stéphanie Blanchoud et Itsik Elbaz\, la mise en scène de Michael Delaunoy propose un duel d’acteurs captivant.
URL:https://littletower.be/evenement-culturel-wallonie-bruxelles/peu-importe-15/
LOCATION:Théâtre Le Public\, Rue Braemt 64-70\, Bruxelles\, Bruxelles-Capitale\, 1210\, Belgium
CATEGORIES:BRUXELLES,Marius von Mayenburg,Peu importe,Théâtre,Théâtre Le Public
ATTACH;FMTTYPE=image/png:https://littletower.be/wp-content/uploads/2026/03/image-35-e1773651510517-07nOPb.png
END:VEVENT
BEGIN:VEVENT
DTSTART;TZID=UTC:20260331T203000
DTEND;TZID=UTC:20260331T233000
DTSTAMP:20260423T173435
CREATED:20260316T090747Z
LAST-MODIFIED:20260316T090747Z
UID:3204-1774989000-1774999800@littletower.be
SUMMARY:Peu importe
DESCRIPTION:Le soir tombe. Les enfants dorment. Après une semaine de séparation\, un homme et une femme se retrouvent enfin. L’un revient de voyage et offre à l’autre un cadeau. Ou peut‑être est‑ce l’inverse. Peu importe. Le présent reste fermé\, suspendu au cœur d’une nuit qui promet d’être longue. Dans Peu importe\, Marius von Mayenburg observe avec ironie les relations contemporaines et la place du travail dans nos vies. Entre humour féroce et tension dramatique\, la pièce questionne notre époque et les équilibres fragiles du couple. Portée par Stéphanie Blanchoud et Itsik Elbaz\, la mise en scène de Michael Delaunoy propose un duel d’acteurs captivant.
URL:https://littletower.be/evenement-culturel-wallonie-bruxelles/peu-importe-16/
LOCATION:Théâtre Le Public\, Rue Braemt 64-70\, Bruxelles\, Bruxelles-Capitale\, 1210\, Belgium
CATEGORIES:BRUXELLES,Marius von Mayenburg,Peu importe,Théâtre,Théâtre Le Public
ATTACH;FMTTYPE=image/png:https://littletower.be/wp-content/uploads/2026/03/image-35-e1773651510517-07nOPb.png
END:VEVENT
END:VCALENDAR